BEGIN:VCALENDAR
VERSION:2.0
PRODID:-//City of Apalachicola Florida - ECPv6.15.20//NONSGML v1.0//EN
CALSCALE:GREGORIAN
METHOD:PUBLISH
X-ORIGINAL-URL:https://www.cityofapalachicola.com
X-WR-CALDESC:Events for City of Apalachicola Florida
REFRESH-INTERVAL;VALUE=DURATION:PT1H
X-Robots-Tag:noindex
X-PUBLISHED-TTL:PT1H
BEGIN:VTIMEZONE
TZID:America/New_York
BEGIN:DAYLIGHT
TZOFFSETFROM:-0500
TZOFFSETTO:-0400
TZNAME:EDT
DTSTART:20230312T070000
END:DAYLIGHT
BEGIN:STANDARD
TZOFFSETFROM:-0400
TZOFFSETTO:-0500
TZNAME:EST
DTSTART:20231105T060000
END:STANDARD
BEGIN:DAYLIGHT
TZOFFSETFROM:-0500
TZOFFSETTO:-0400
TZNAME:EDT
DTSTART:20240310T070000
END:DAYLIGHT
BEGIN:STANDARD
TZOFFSETFROM:-0400
TZOFFSETTO:-0500
TZNAME:EST
DTSTART:20241103T060000
END:STANDARD
BEGIN:DAYLIGHT
TZOFFSETFROM:-0500
TZOFFSETTO:-0400
TZNAME:EDT
DTSTART:20250309T070000
END:DAYLIGHT
BEGIN:STANDARD
TZOFFSETFROM:-0400
TZOFFSETTO:-0500
TZNAME:EST
DTSTART:20251102T060000
END:STANDARD
END:VTIMEZONE
BEGIN:VEVENT
DTSTART;VALUE=DATE:20240902
DTEND;VALUE=DATE:20240903
DTSTAMP:20260422T054400
CREATED:20231221T205322Z
LAST-MODIFIED:20231221T205322Z
UID:10000293-1725235200-1725321599@www.cityofapalachicola.com
SUMMARY:Labor Day - Office Closure
DESCRIPTION:Please note that the City will be closed on September 2nd to observe Labor Day.
URL:https://www.cityofapalachicola.com/event/labor-day-office-closure/
LOCATION:FL
CATEGORIES:Office Closure
END:VEVENT
BEGIN:VEVENT
DTSTART;TZID=America/New_York:20240903T180000
DTEND;TZID=America/New_York:20240903T180000
DTSTAMP:20260422T054400
CREATED:20231221T202849Z
LAST-MODIFIED:20240809T142110Z
UID:10000413-1725386400-1725386400@www.cityofapalachicola.com
SUMMARY:City Commission Meeting
DESCRIPTION:The agenda can be found on our Agendas & Minutes page.
URL:https://www.cityofapalachicola.com/event/city-commission-meeting-6/2024-09-03/
LOCATION:Commission Meeting Room\, 74 6th Street\, Apalachicola\, FL\, 32320\, United States
END:VEVENT
BEGIN:VEVENT
DTSTART;TZID=America/New_York:20240909T180000
DTEND;TZID=America/New_York:20240909T180000
DTSTAMP:20260422T054400
CREATED:20231221T204303Z
LAST-MODIFIED:20231221T204303Z
UID:10000285-1725904800-1725904800@www.cityofapalachicola.com
SUMMARY:P & Z Board Meeting
DESCRIPTION:The agenda can be found on our Agendas & Minutes page.
URL:https://www.cityofapalachicola.com/event/p-z-board-meeting-5/2024-09-09/
LOCATION:Commission Meeting Room\, 74 6th Street\, Apalachicola\, FL\, 32320\, United States
END:VEVENT
BEGIN:VEVENT
DTSTART;TZID=America/New_York:20240910T170000
DTEND;TZID=America/New_York:20240910T170000
DTSTAMP:20260422T054400
CREATED:20240822T202203Z
LAST-MODIFIED:20240822T202204Z
UID:10000323-1725987600-1725987600@www.cityofapalachicola.com
SUMMARY:Library Board Meeting
DESCRIPTION:
URL:https://www.cityofapalachicola.com/event/library-board-7/
LOCATION:Commission Meeting Room\, 74 6th Street\, Apalachicola\, FL\, 32320\, United States
END:VEVENT
BEGIN:VEVENT
DTSTART;TZID=America/New_York:20240910T180000
DTEND;TZID=America/New_York:20240910T180000
DTSTAMP:20260422T054400
CREATED:20240809T154402Z
LAST-MODIFIED:20240809T154402Z
UID:10000418-1725991200-1725991200@www.cityofapalachicola.com
SUMMARY:City Commission 1st Budget Public Hearing & Special Meeting
DESCRIPTION:
URL:https://www.cityofapalachicola.com/event/city-commission-1st-budget-public-hearing-special-meeting/
LOCATION:Commission Meeting Room\, 74 6th Street\, Apalachicola\, FL\, 32320\, United States
END:VEVENT
BEGIN:VEVENT
DTSTART;TZID=America/New_York:20240919T173000
DTEND;TZID=America/New_York:20240919T173000
DTSTAMP:20260422T054400
CREATED:20231221T211107Z
LAST-MODIFIED:20231221T211107Z
UID:10000306-1726767000-1726767000@www.cityofapalachicola.com
SUMMARY:Parks & Recreation Committee Meeting
DESCRIPTION:The agenda can be found on our Agendas & Minutes page.
URL:https://www.cityofapalachicola.com/event/parks-recreation-committee-meeting/2024-09-19/
LOCATION:Commission Meeting Room\, 74 6th Street\, Apalachicola\, FL\, 32320\, United States
END:VEVENT
BEGIN:VEVENT
DTSTART;TZID=America/New_York:20240924T171500
DTEND;TZID=America/New_York:20240924T171500
DTSTAMP:20260422T054400
CREATED:20240916T204048Z
LAST-MODIFIED:20240916T204048Z
UID:10000403-1727198100-1727198100@www.cityofapalachicola.com
SUMMARY:Tree Committee Meeting
DESCRIPTION:
URL:https://www.cityofapalachicola.com/event/tree-committee-meeting-9-3-2/
LOCATION:Commission Meeting Room\, 74 6th Street\, Apalachicola\, FL\, 32320\, United States
END:VEVENT
BEGIN:VEVENT
DTSTART;TZID=America/New_York:20240924T180000
DTEND;TZID=America/New_York:20240924T180000
DTSTAMP:20260422T054400
CREATED:20240809T154445Z
LAST-MODIFIED:20240809T154445Z
UID:10000419-1727200800-1727200800@www.cityofapalachicola.com
SUMMARY:City Commission 2nd Budget Public Hearing & Special Meeting
DESCRIPTION:
URL:https://www.cityofapalachicola.com/event/city-commission-2nd-budget-public-hearing-special-meeting/
LOCATION:Commission Meeting Room\, 74 6th Street\, Apalachicola\, FL\, 32320\, United States
END:VEVENT
END:VCALENDAR